BEGIN:VCALENDAR
VERSION:2.0
PRODID:-//ZContent.net//ZapCalLib 1.0//EN
CALSCALE:GREGORIAN
METHOD:PUBLISH
BEGIN:VEVENT
SUMMARY:`Maras` und `Pandillas` - Jugendbanden in Mittelamerika
DTSTART:20080905T190000
DTEND:20080905T220000
UID:2026-04-24-08-28-23-0-@calendar.boell.de
DTSTAMP:20260424T062823
DESCRIPTION:Landesstiftung Berlin (Bildungswerk)
END:VEVENT
END:VCALENDAR
