BEGIN:VCALENDAR
VERSION:2.0
PRODID:-//ZContent.net//ZapCalLib 1.0//EN
CALSCALE:GREGORIAN
METHOD:PUBLISH
BEGIN:VEVENT
SUMMARY:Cristina, Soja und die Menschenrechte  | Argentinien 2008 - Wirtsch
 aft, Soziales und Politik
DTSTART:20080919T190000
DTEND:20080919T220000
UID:2026-04-23-16-31-03-0-@calendar.boell.de
DTSTAMP:20260423T143103
DESCRIPTION:Landesstiftung Berlin (Bildungswerk)
END:VEVENT
END:VCALENDAR
