BEGIN:VCALENDAR
VERSION:2.0
PRODID:-//ZContent.net//ZapCalLib 1.0//EN
CALSCALE:GREGORIAN
METHOD:PUBLISH
BEGIN:VEVENT
SUMMARY:Filme verändern: Konfliktbearbeitung im Südlichen Kaukasus | Film
 präsentation und Diskussion zum mobilen Filmfestival „Nationalität: Me
 nsch“
DTSTART:20081204T000000
DTEND:20081212T000000
UID:2026-04-24-13-41-39-0-@calendar.boell.de
DTSTAMP:20260424T114139
DESCRIPTION:Heinrich-Böll-Stiftung - Bundesstiftung Berlin
END:VEVENT
END:VCALENDAR
