BEGIN:VCALENDAR
VERSION:2.0
PRODID:-//ZContent.net//ZapCalLib 1.0//EN
CALSCALE:GREGORIAN
METHOD:PUBLISH
BEGIN:VEVENT
SUMMARY:Ich bin so frei! | Einführung in die Kunst der freien Rede | Works
 hop nur für Frauen
DTSTART:20081116T103000
DTEND:20081116T170000
UID:2026-04-24-12-27-34-0-@calendar.boell.de
DTSTAMP:20260424T102734
DESCRIPTION:
END:VEVENT
END:VCALENDAR
