BEGIN:VCALENDAR
VERSION:2.0
PRODID:-//ZContent.net//ZapCalLib 1.0//EN
CALSCALE:GREGORIAN
METHOD:PUBLISH
BEGIN:VEVENT
SUMMARY:Demokratische Einstellungen | Ergebnisse und Trends von Bürgerbefr
 agungen in Afrika
DTSTART:20081021T193000
DTEND:20081021T220000
UID:2026-04-24-06-41-33-0-@calendar.boell.de
DTSTAMP:20260424T044133
DESCRIPTION:Heinrich-Böll-Stiftung - Bundesstiftung Berlin
END:VEVENT
END:VCALENDAR
