BEGIN:VCALENDAR
VERSION:2.0
PRODID:-//ZContent.net//ZapCalLib 1.0//EN
CALSCALE:GREGORIAN
METHOD:PUBLISH
BEGIN:VEVENT
SUMMARY:Peter Barnes: Lesereise Kapitalismus 3.0 / Lecture: Capitalism 3.0 
 | Was der Himmel kostet / Putting a Price on the Sky
DTSTART:20081016T190000
DTEND:20081016T000000
UID:2026-04-24-02-49-04-0-@calendar.boell.de
DTSTAMP:20260424T004904
DESCRIPTION:Heinrich-Böll-Stiftung - Bundesstiftung Berlin
END:VEVENT
END:VCALENDAR
