BEGIN:VCALENDAR
VERSION:2.0
PRODID:-//ZContent.net//ZapCalLib 1.0//EN
CALSCALE:GREGORIAN
METHOD:PUBLISH
BEGIN:VEVENT
SUMMARY:Kunst & Demokratie | Doing Culture - Living Values of Democracy - P
 rojektabschlussveranstaltung
DTSTART:20080922T103000
DTEND:20080922T173000
UID:2026-04-26-06-14-58-0-@calendar.boell.de
DTSTAMP:20260426T041458
DESCRIPTION:Landesstiftung Brandenburg
END:VEVENT
END:VCALENDAR
