BEGIN:VCALENDAR
VERSION:2.0
PRODID:-//ZContent.net//ZapCalLib 1.0//EN
CALSCALE:GREGORIAN
METHOD:PUBLISH
BEGIN:VEVENT
SUMMARY:Empowerment gegen Rassismus
DTSTART:20080919T090000
DTEND:20080920T170000
UID:2026-04-24-00-34-22-0-@calendar.boell.de
DTSTAMP:20260423T223422
DESCRIPTION:Landesstiftung Berlin (Bildungswerk)
END:VEVENT
END:VCALENDAR
