BEGIN:VCALENDAR
VERSION:2.0
PRODID:-//ZContent.net//ZapCalLib 1.0//EN
CALSCALE:GREGORIAN
METHOD:PUBLISH
BEGIN:VEVENT
SUMMARY:Interventionen gegen Alltagsrassismus
DTSTART:20080920T100000
DTEND:20080921T180000
UID:2026-04-24-00-34-51-0-@calendar.boell.de
DTSTAMP:20260423T223451
DESCRIPTION:Landesstiftung Berlin (Bildungswerk)
END:VEVENT
END:VCALENDAR
