BEGIN:VCALENDAR
VERSION:2.0
PRODID:-//ZContent.net//ZapCalLib 1.0//EN
CALSCALE:GREGORIAN
METHOD:PUBLISH
BEGIN:VEVENT
SUMMARY:Tatjana Barbakoff | Verschwundene Biografie durch den Nationalsozia
 lismus
DTSTART:20081122T203000
DTEND:20081122T000000
UID:2026-04-24-03-25-36-0-@calendar.boell.de
DTSTAMP:20260424T012536
DESCRIPTION:Landesstiftung Berlin (Bildungswerk)
END:VEVENT
END:VCALENDAR
