BEGIN:VCALENDAR
VERSION:2.0
PRODID:-//ZContent.net//ZapCalLib 1.0//EN
CALSCALE:GREGORIAN
METHOD:PUBLISH
BEGIN:VEVENT
SUMMARY:Stadtmonitoring und Sozialstrukturatlas | Wirksame Instrumente für
  soziale Stadtentwicklung?
DTSTART:20081126T183000
DTEND:20081126T203000
UID:2026-04-24-00-35-35-0-@calendar.boell.de
DTSTAMP:20260423T223535
DESCRIPTION:Landesstiftung Berlin (Bildungswerk)
END:VEVENT
END:VCALENDAR
