BEGIN:VCALENDAR
VERSION:2.0
PRODID:-//ZContent.net//ZapCalLib 1.0//EN
CALSCALE:GREGORIAN
METHOD:PUBLISH
BEGIN:VEVENT
SUMMARY:„Berlin mal anders“ | Ein Blick hinter die politischen Kulissen
DTSTART:20080928T000000
DTEND:20081002T000000
UID:2026-04-25-23-41-04-0-@calendar.boell.de
DTSTAMP:20260425T214104
DESCRIPTION:Landesstiftung Berlin (Bildungswerk)
END:VEVENT
END:VCALENDAR
