BEGIN:VCALENDAR
VERSION:2.0
PRODID:-//ZContent.net//ZapCalLib 1.0//EN
CALSCALE:GREGORIAN
METHOD:PUBLISH
BEGIN:VEVENT
SUMMARY:Alt werden – Eine besondere Herausforderung für Frauen?! | 1. Wi
 e privat muss die Altersvorsorge heute wieder sein?
DTSTART:20081208T200000
DTEND:20081208T000000
UID:2026-04-24-15-41-04-0-@calendar.boell.de
DTSTAMP:20260424T134104
DESCRIPTION:Landesstiftung Berlin (Bildungswerk)
END:VEVENT
END:VCALENDAR
