BEGIN:VCALENDAR
VERSION:2.0
PRODID:-//ZContent.net//ZapCalLib 1.0//EN
CALSCALE:GREGORIAN
METHOD:PUBLISH
BEGIN:VEVENT
SUMMARY:Alt werden – Eine besondere Herausforderung für Frauen?! | 2. Di
 e Bruchgeneration
DTSTART:20081020T200000
DTEND:20081020T000000
UID:2026-04-24-17-47-45-0-@calendar.boell.de
DTSTAMP:20260424T154745
DESCRIPTION:Landesstiftung Berlin (Bildungswerk)
END:VEVENT
END:VCALENDAR
