BEGIN:VCALENDAR
VERSION:2.0
PRODID:-//ZContent.net//ZapCalLib 1.0//EN
CALSCALE:GREGORIAN
METHOD:PUBLISH
BEGIN:VEVENT
SUMMARY:Politik im Raum: Corporate Social Responsibility | - vorbildliches 
 Engagement oder Marketing-Trick?
DTSTART:20080930T190000
DTEND:20080930T000000
UID:2026-04-23-19-14-26-0-@calendar.boell.de
DTSTAMP:20260423T171426
DESCRIPTION:Landesstiftung Berlin (Bildungswerk)
END:VEVENT
END:VCALENDAR
