BEGIN:VCALENDAR
VERSION:2.0
PRODID:-//ZContent.net//ZapCalLib 1.0//EN
CALSCALE:GREGORIAN
METHOD:PUBLISH
BEGIN:VEVENT
SUMMARY:Sexuelle Aufklärung von Mädchen II | Podiumsdiskussion und Worksh
 op
DTSTART:20081204T180000
DTEND:20081204T210000
UID:2026-04-23-05-12-14-0-@calendar.boell.de
DTSTAMP:20260423T031214
DESCRIPTION:Landesstiftung Berlin (Bildungswerk)
END:VEVENT
END:VCALENDAR
