BEGIN:VCALENDAR
VERSION:2.0
PRODID:-//ZContent.net//ZapCalLib 1.0//EN
CALSCALE:GREGORIAN
METHOD:PUBLISH
BEGIN:VEVENT
SUMMARY:Gewalt und Folter - Was geht mich das an?
DTSTART:20081020T000000
DTEND:20081024T000000
UID:2026-04-23-08-37-39-0-@calendar.boell.de
DTSTAMP:20260423T063739
DESCRIPTION:Landesstiftung Berlin (Bildungswerk)
END:VEVENT
END:VCALENDAR
