BEGIN:VCALENDAR
VERSION:2.0
PRODID:-//ZContent.net//ZapCalLib 1.0//EN
CALSCALE:GREGORIAN
METHOD:PUBLISH
BEGIN:VEVENT
SUMMARY:3. Grundeinkommens-Kongress: Auf dem Weg zum Grundeinkommen  | bedi
 ngungslos und existenzsichernd
DTSTART:20081024T150000
DTEND:20081026T140000
UID:2026-04-24-03-39-33-0-@calendar.boell.de
DTSTAMP:20260424T013933
DESCRIPTION:Landesstiftung Berlin (Bildungswerk)
END:VEVENT
END:VCALENDAR
