BEGIN:VCALENDAR
VERSION:2.0
PRODID:-//ZContent.net//ZapCalLib 1.0//EN
CALSCALE:GREGORIAN
METHOD:PUBLISH
BEGIN:VEVENT
SUMMARY:Journalistisches Schreiben
DTSTART:20081009T190000
DTEND:20081009T220000
UID:2026-04-26-06-15-02-0-@calendar.boell.de
DTSTAMP:20260426T041502
DESCRIPTION:Landesstiftung Berlin (Bildungswerk)
END:VEVENT
END:VCALENDAR
