BEGIN:VCALENDAR
VERSION:2.0
PRODID:-//ZContent.net//ZapCalLib 1.0//EN
CALSCALE:GREGORIAN
METHOD:PUBLISH
BEGIN:VEVENT
SUMMARY:Präsenztraining für Frauen
DTSTART:20081108T100000
DTEND:20081109T170000
UID:2026-04-24-11-45-12-0-@calendar.boell.de
DTSTAMP:20260424T094512
DESCRIPTION:Landesstiftung Berlin (Bildungswerk)
END:VEVENT
END:VCALENDAR
