BEGIN:VCALENDAR
VERSION:2.0
PRODID:-//ZContent.net//ZapCalLib 1.0//EN
CALSCALE:GREGORIAN
METHOD:PUBLISH
BEGIN:VEVENT
SUMMARY:Cristina, Soja und die Menschenrechte - Argentinien 2008 | - Wirtsc
 haft, Soziales und Politik
DTSTART:20080919T190000
DTEND:20080919T000000
UID:2026-04-24-08-46-39-0-@calendar.boell.de
DTSTAMP:20260424T064639
DESCRIPTION:Landesstiftung Berlin (Bildungswerk)
END:VEVENT
END:VCALENDAR
