BEGIN:VCALENDAR
VERSION:2.0
PRODID:-//ZContent.net//ZapCalLib 1.0//EN
CALSCALE:GREGORIAN
METHOD:PUBLISH
BEGIN:VEVENT
SUMMARY:Kolumbien | Kein Ausweg aus dem Teufelkreis von Drogen, Repression 
 und Gewalt?
DTSTART:20081121T190000
DTEND:20081121T000000
UID:2026-04-23-04-49-07-0-@calendar.boell.de
DTSTAMP:20260423T024907
DESCRIPTION:Landesstiftung Berlin (Bildungswerk)
END:VEVENT
END:VCALENDAR
