BEGIN:VCALENDAR
VERSION:2.0
PRODID:-//ZContent.net//ZapCalLib 1.0//EN
CALSCALE:GREGORIAN
METHOD:PUBLISH
BEGIN:VEVENT
SUMMARY:Lasst 1000 Sweatshops blÃ¼hen!  | ArbeitsverhÃ¤ltnisse in der WeltÃ
 ¶konomie am Beispiel China
DTSTART:20081101T110000
DTEND:20081101T180000
UID:2026-04-26-06-15-01-0-@calendar.boell.de
DTSTAMP:20260426T041501
DESCRIPTION:Landesstiftung Berlin (Bildungswerk)
END:VEVENT
END:VCALENDAR
