BEGIN:VCALENDAR
VERSION:2.0
PRODID:-//ZContent.net//ZapCalLib 1.0//EN
CALSCALE:GREGORIAN
METHOD:PUBLISH
BEGIN:VEVENT
SUMMARY:Rassismus und Religion | Antisemitismus, Islamophobie und andere Er
 scheinungsformen
DTSTART:20081004T000000
DTEND:20081005T000000
UID:2026-04-26-06-14-56-0-@calendar.boell.de
DTSTAMP:20260426T041456
DESCRIPTION:Landesstiftung Berlin (Bildungswerk)
END:VEVENT
END:VCALENDAR
