BEGIN:VCALENDAR
VERSION:2.0
PRODID:-//ZContent.net//ZapCalLib 1.0//EN
CALSCALE:GREGORIAN
METHOD:PUBLISH
BEGIN:VEVENT
SUMMARY:Preisverleihung: Hannah-Arendt-Preis
DTSTART:20081205T180000
DTEND:20081205T000000
UID:2026-04-24-09-05-42-0-@calendar.boell.de
DTSTAMP:20260424T070542
DESCRIPTION:Heinrich-Böll-Stiftung - Bundesstiftung Berlin
END:VEVENT
END:VCALENDAR
