BEGIN:VCALENDAR
VERSION:2.0
PRODID:-//ZContent.net//ZapCalLib 1.0//EN
CALSCALE:GREGORIAN
METHOD:PUBLISH
BEGIN:VEVENT
SUMMARY:Praktiken der Migration in der Diskussion
DTSTART:20081021T190000
DTEND:20081021T213000
UID:2026-04-23-23-28-41-0-@calendar.boell.de
DTSTAMP:20260423T212841
DESCRIPTION:Landesstiftung Berlin (Bildungswerk)
END:VEVENT
END:VCALENDAR
