BEGIN:VCALENDAR
VERSION:2.0
PRODID:-//ZContent.net//ZapCalLib 1.0//EN
CALSCALE:GREGORIAN
METHOD:PUBLISH
BEGIN:VEVENT
SUMMARY:8. Grüner Salon Düsseldorf | Ökologische Marktwirtschaft
DTSTART:20081021T193000
DTEND:20081021T230000
UID:2026-04-24-03-25-43-0-@calendar.boell.de
DTSTAMP:20260424T012543
DESCRIPTION:Landesstiftung Nordrhein-Westfalen
END:VEVENT
END:VCALENDAR
