BEGIN:VCALENDAR
VERSION:2.0
PRODID:-//ZContent.net//ZapCalLib 1.0//EN
CALSCALE:GREGORIAN
METHOD:PUBLISH
BEGIN:VEVENT
SUMMARY:China Heute: 30 Jahre politische Reformen in der VR China | Podiums
 diskussion
DTSTART:20081125T193000
DTEND:20081125T210000
UID:2026-04-24-11-20-03-0-@calendar.boell.de
DTSTAMP:20260424T092003
DESCRIPTION:Heinrich-Böll-Stiftung - Bundesstiftung Berlin
END:VEVENT
END:VCALENDAR
