BEGIN:VCALENDAR
VERSION:2.0
PRODID:-//ZContent.net//ZapCalLib 1.0//EN
CALSCALE:GREGORIAN
METHOD:PUBLISH
BEGIN:VEVENT
SUMMARY:Alumni Salon 2008 | Interrreligiöser Dialog im Konflikt
DTSTART:20081011T120000
DTEND:20081011T230000
UID:2026-04-25-01-37-29-0-@calendar.boell.de
DTSTAMP:20260424T233729
DESCRIPTION:Heinrich-Böll-Stiftung - Bundesstiftung Berlin
END:VEVENT
END:VCALENDAR
