BEGIN:VCALENDAR
VERSION:2.0
PRODID:-//ZContent.net//ZapCalLib 1.0//EN
CALSCALE:GREGORIAN
METHOD:PUBLISH
BEGIN:VEVENT
SUMMARY:5. Lange Nacht der Gender Studies: gender *d* rama
DTSTART:20081018T120000
DTEND:20081018T200000
UID:2026-04-24-13-56-47-0-@calendar.boell.de
DTSTAMP:20260424T115647
DESCRIPTION:
END:VEVENT
END:VCALENDAR
