BEGIN:VCALENDAR
VERSION:2.0
PRODID:-//ZContent.net//ZapCalLib 1.0//EN
CALSCALE:GREGORIAN
METHOD:PUBLISH
BEGIN:VEVENT
SUMMARY:Aufstehen  und Widersetzten – Chöre gegen Rechts
DTSTART:20081109T110000
DTEND:20081109T200000
UID:2026-04-24-02-49-09-0-@calendar.boell.de
DTSTAMP:20260424T004909
DESCRIPTION:Externe Veranstaltung
END:VEVENT
END:VCALENDAR
