BEGIN:VCALENDAR
VERSION:2.0
PRODID:-//ZContent.net//ZapCalLib 1.0//EN
CALSCALE:GREGORIAN
METHOD:PUBLISH
BEGIN:VEVENT
SUMMARY:Jungenarbeit – eine pädagogische Herausforderung | Modul 2: Jung
 ensexualität: zwischen Coolness und Herzkasper | 5-teilige Qualifizierung
 sreihe für Männer
DTSTART:20120208T103000
DTEND:20120210T160000
UID:2026-04-25-16-18-47-0-@calendar.boell.de
DTSTAMP:20260425T141847
DESCRIPTION:
END:VEVENT
END:VCALENDAR
