BEGIN:VCALENDAR
VERSION:2.0
PRODID:-//ZContent.net//ZapCalLib 1.0//EN
CALSCALE:GREGORIAN
METHOD:PUBLISH
BEGIN:VEVENT
SUMMARY:Jungenarbeit – eine pädagogische Herausforderung | Modul 4: Lebe
 ns- und Berufsplanung | 5-teilige Qualifizierungsreihe für Männer
DTSTART:20120919T103000
DTEND:20120921T160000
UID:2026-04-25-01-01-18-0-@calendar.boell.de
DTSTAMP:20260424T230118
DESCRIPTION:
END:VEVENT
END:VCALENDAR
