BEGIN:VCALENDAR
VERSION:2.0
PRODID:-//ZContent.net//ZapCalLib 1.0//EN
CALSCALE:GREGORIAN
METHOD:PUBLISH
BEGIN:VEVENT
SUMMARY:Cinema Global | Als der Wind den Sand berührte  | Film
DTSTART:20081008T201500
DTEND:20081008T201500
UID:2026-04-25-01-36-48-0-@calendar.boell.de
DTSTAMP:20260424T233648
DESCRIPTION:Externe Veranstaltung
END:VEVENT
END:VCALENDAR
