BEGIN:VCALENDAR
VERSION:2.0
PRODID:-//ZContent.net//ZapCalLib 1.0//EN
CALSCALE:GREGORIAN
METHOD:PUBLISH
BEGIN:VEVENT
SUMMARY:Das Geheimnis der türkischen Großmutter | Mit Yildiz Cakar | Lesu
 ngsreihe
DTSTART:20081111T200000
DTEND:20081111T200000
UID:2026-04-26-06-14-57-0-@calendar.boell.de
DTSTAMP:20260426T041457
DESCRIPTION:Externe Veranstaltung
END:VEVENT
END:VCALENDAR
