BEGIN:VCALENDAR
VERSION:2.0
PRODID:-//ZContent.net//ZapCalLib 1.0//EN
CALSCALE:GREGORIAN
METHOD:PUBLISH
BEGIN:VEVENT
SUMMARY:EUROPE UNLIMITED | Plötzlich letzten Winter | Film | Filmfest Osna
 brück 2008
DTSTART:20081012T173000
DTEND:20081012T173000
UID:2026-04-24-00-36-01-0-@calendar.boell.de
DTSTAMP:20260423T223601
DESCRIPTION:Externe Veranstaltung
END:VEVENT
END:VCALENDAR
