BEGIN:VCALENDAR
VERSION:2.0
PRODID:-//ZContent.net//ZapCalLib 1.0//EN
CALSCALE:GREGORIAN
METHOD:PUBLISH
BEGIN:VEVENT
SUMMARY:Croatia’s Energy and Climate Security Policies: What Linkages wit
 h the EU’s  Energy and Climate Package? | BÖLL LUNCH DEBATE
DTSTART:20081015T123000
DTEND:20081015T143000
UID:2026-04-23-03-08-34-0-@calendar.boell.de
DTSTAMP:20260423T010834
DESCRIPTION:Heinrich-Böll-Stiftung Brüssel - Europäische Union
END:VEVENT
END:VCALENDAR
