BEGIN:VCALENDAR
VERSION:2.0
PRODID:-//ZContent.net//ZapCalLib 1.0//EN
CALSCALE:GREGORIAN
METHOD:PUBLISH
BEGIN:VEVENT
SUMMARY:Rhetorik für Frauen, Fortgeschrittene
DTSTART:20081122T100000
DTEND:20081122T180000
UID:2026-04-24-03-26-03-0-@calendar.boell.de
DTSTAMP:20260424T012603
DESCRIPTION:Landesstiftung Brandenburg
END:VEVENT
END:VCALENDAR
