BEGIN:VCALENDAR
VERSION:2.0
PRODID:-//ZContent.net//ZapCalLib 1.0//EN
CALSCALE:GREGORIAN
METHOD:PUBLISH
BEGIN:VEVENT
SUMMARY:Tagung: Klimaschutz, Klimawandel und Geschlechtergerechtigkeit | Ei
 ne Tagung im Vorfeld der Vertragsstaatenkonferenz in Poznan, Dezember 2008
 .
DTSTART:20081104T093000
DTEND:20081104T170000
UID:2026-04-24-12-26-52-0-@calendar.boell.de
DTSTAMP:20260424T102652
DESCRIPTION:
END:VEVENT
END:VCALENDAR
