BEGIN:VCALENDAR
VERSION:2.0
PRODID:-//ZContent.net//ZapCalLib 1.0//EN
CALSCALE:GREGORIAN
METHOD:PUBLISH
BEGIN:VEVENT
SUMMARY:Tagungsvortrag zur Rolle “Kritischer Wissenschaften” an Hochsch
 ulen und in der Gesellschaft | Projekt Alternative Denkräume | Ringvorles
 ung WS 2008/09
DTSTART:20081030T171500
DTEND:20081030T184500
UID:2026-04-24-06-41-56-0-@calendar.boell.de
DTSTAMP:20260424T044156
DESCRIPTION:Externe Veranstaltung
END:VEVENT
END:VCALENDAR
