BEGIN:VCALENDAR
VERSION:2.0
PRODID:-//ZContent.net//ZapCalLib 1.0//EN
CALSCALE:GREGORIAN
METHOD:PUBLISH
BEGIN:VEVENT
SUMMARY:Die Funktion der Hochschule(n) im Kapitalismus | Projekt Alternativ
 e Denkräume | Ringvorlesung WS 2008/09
DTSTART:20081113T181500
DTEND:20081113T194500
UID:2026-04-24-00-36-02-0-@calendar.boell.de
DTSTAMP:20260423T223602
DESCRIPTION:Externe Veranstaltung
END:VEVENT
END:VCALENDAR
