BEGIN:VCALENDAR
VERSION:2.0
PRODID:-//ZContent.net//ZapCalLib 1.0//EN
CALSCALE:GREGORIAN
METHOD:PUBLISH
BEGIN:VEVENT
SUMMARY:Welche Aufgaben und welches Selbstverständnis sollten Hochschulen 
 haben | DISKUSSION | Projekt Alternative Denkräume | Ringvorlesung WS 200
 8/09
DTSTART:20081120T181500
DTEND:20081120T194500
UID:2026-04-25-12-35-47-0-@calendar.boell.de
DTSTAMP:20260425T103547
DESCRIPTION:Externe Veranstaltung
END:VEVENT
END:VCALENDAR
