BEGIN:VCALENDAR
VERSION:2.0
PRODID:-//ZContent.net//ZapCalLib 1.0//EN
CALSCALE:GREGORIAN
METHOD:PUBLISH
BEGIN:VEVENT
SUMMARY:Zur Rolle der Studierenden in Hochschule und Gesellschaft | WORKSH
 OP | Projekt Alternative Denkräume | Ringvorlesung WS 2008/09
DTSTART:20090115T181500
DTEND:20090115T194500
UID:2026-04-24-00-35-50-0-@calendar.boell.de
DTSTAMP:20260423T223550
DESCRIPTION:Externe Veranstaltung
END:VEVENT
END:VCALENDAR
