BEGIN:VCALENDAR
VERSION:2.0
PRODID:-//ZContent.net//ZapCalLib 1.0//EN
CALSCALE:GREGORIAN
METHOD:PUBLISH
BEGIN:VEVENT
SUMMARY:Brennpunkt Hochschulpolitik: Welche Hochschule wollen wir? | PODIU
 MSDISKUSSION | Projekt Alternative Denkräume | Ringvorlesung WS 2008/09
DTSTART:20090123T180000
DTEND:20090123T180000
UID:2026-04-23-23-29-32-0-@calendar.boell.de
DTSTAMP:20260423T212932
DESCRIPTION:Externe Veranstaltung
END:VEVENT
END:VCALENDAR
