BEGIN:VCALENDAR
VERSION:2.0
PRODID:-//ZContent.net//ZapCalLib 1.0//EN
CALSCALE:GREGORIAN
METHOD:PUBLISH
BEGIN:VEVENT
SUMMARY:Vortrag: Determinanten des Gender Pay Gap im internationalen Vergle
 ich | Gender Lecture 
DTSTART:20081027T181500
DTEND:20081027T194500
UID:2026-04-24-11-45-28-0-@calendar.boell.de
DTSTAMP:20260424T094528
DESCRIPTION:
END:VEVENT
END:VCALENDAR
