BEGIN:VCALENDAR
VERSION:2.0
PRODID:-//ZContent.net//ZapCalLib 1.0//EN
CALSCALE:GREGORIAN
METHOD:PUBLISH
BEGIN:VEVENT
SUMMARY:Europäisch-afrikanische Konferenz `Migration und Entwicklung` | in
  Paris
DTSTART:20081020T100000
DTEND:20081021T200000
UID:2026-04-23-20-43-04-0-@calendar.boell.de
DTSTAMP:20260423T184304
DESCRIPTION:Externe Veranstaltung
END:VEVENT
END:VCALENDAR
