BEGIN:VCALENDAR
VERSION:2.0
PRODID:-//ZContent.net//ZapCalLib 1.0//EN
CALSCALE:GREGORIAN
METHOD:PUBLISH
BEGIN:VEVENT
SUMMARY:Energiekongress 2008 | von Greenpeace Energy in Berlin
DTSTART:20081107T100000
DTEND:20081107T200000
UID:2026-04-23-16-32-15-0-@calendar.boell.de
DTSTAMP:20260423T143215
DESCRIPTION:Externe Veranstaltung
END:VEVENT
END:VCALENDAR
