BEGIN:VCALENDAR
VERSION:2.0
PRODID:-//ZContent.net//ZapCalLib 1.0//EN
CALSCALE:GREGORIAN
METHOD:PUBLISH
BEGIN:VEVENT
SUMMARY:G20 Treffen der Finanzminister | in Salvador/Brasilien
DTSTART:20081108T100000
DTEND:20081109T200000
UID:2026-04-24-00-37-38-0-@calendar.boell.de
DTSTAMP:20260423T223738
DESCRIPTION:Externe Veranstaltung
END:VEVENT
END:VCALENDAR
