BEGIN:VCALENDAR
VERSION:2.0
PRODID:-//ZContent.net//ZapCalLib 1.0//EN
CALSCALE:GREGORIAN
METHOD:PUBLISH
BEGIN:VEVENT
SUMMARY:48. Weltbildungsministerkonferenz | in Genf
DTSTART:20081125T100000
DTEND:20081128T200000
UID:2026-04-25-04-17-35-0-@calendar.boell.de
DTSTAMP:20260425T021735
DESCRIPTION:Externe Veranstaltung
END:VEVENT
END:VCALENDAR
