BEGIN:VCALENDAR
VERSION:2.0
PRODID:-//ZContent.net//ZapCalLib 1.0//EN
CALSCALE:GREGORIAN
METHOD:PUBLISH
BEGIN:VEVENT
SUMMARY:Konferenz zur Entwicklungsfinanzierung | in Doha
DTSTART:20081129T100000
DTEND:20081202T200000
UID:2026-04-23-17-39-31-0-@calendar.boell.de
DTSTAMP:20260423T153931
DESCRIPTION:Externe Veranstaltung
END:VEVENT
END:VCALENDAR
